BEGIN:VCALENDAR
VERSION:2.0
PRODID:-//Offutt AFB - ECPv6.15.20//NONSGML v1.0//EN
CALSCALE:GREGORIAN
METHOD:PUBLISH
X-ORIGINAL-URL:https://offutt55fss.com
X-WR-CALDESC:Events for Offutt AFB
REFRESH-INTERVAL;VALUE=DURATION:PT1H
X-Robots-Tag:noindex
X-PUBLISHED-TTL:PT1H
BEGIN:VTIMEZONE
TZID:UTC
BEGIN:STANDARD
TZOFFSETFROM:+0000
TZOFFSETTO:+0000
TZNAME:UTC
DTSTART:20250101T000000
END:STANDARD
END:VTIMEZONE
BEGIN:VEVENT
DTSTART;VALUE=DATE:20260424
DTEND;VALUE=DATE:20260426
DTSTAMP:20260424T140640
CREATED:20260327T193839Z
LAST-MODIFIED:20260327T193839Z
UID:10000216-1776988800-1777161599@offutt55fss.com
SUMMARY:South Dakota Walleye Fishing Trip
DESCRIPTION:🎣🔥 the Missouri River is calling\, and the fish are biting\, . 🔥🎣 \nRegister for a SOUTH DAKOTA WALLEYE FISHING TRIP hosted by Offutt Outdoor Rec. Take a guided fishing adventure near Platte\, South Dakota. Spend a full day on the water with experienced guides and bring home fresh walleye ready for the freezer. \nTrip Details:\n📅 April 24–25\n🕓 Depart Offutt Friday afternoon\n🎣 Fish all day Saturday on the Missouri River\n🚐 Return to Offutt after fishing \nWhat’s Included:\n✔️ Transportation\n✔️ Lodging\n✔️ Hot breakfast Saturday\n✔️ Lunch & water in the boat\n✔️ Rods\, tackle\, and bait\n✔️ Fish cleaning & vacuum sealing \nNot Included:\n• South Dakota fishing license \nONLY $500 for Active Duty\, Retirees\, and Vets with base access. \n➡️Sign up at Outdoor Rec. Located in Bldg 362 with Auto Hobby. Open 9am – 5pm. Closed Wednesdays & weekends.
URL:https://offutt55fss.com/event/south-dakota-walleye-fishing-trip/
LOCATION:NE
CATEGORIES:Outdoor Recreation
ATTACH;FMTTYPE=image/jpeg:https://offutt55fss.com/wp-content/uploads/2026/03/South-Dakota-Walleye-Fishing-Trip_square.jpg
END:VEVENT
BEGIN:VEVENT
DTSTART;VALUE=DATE:20260425
DTEND;VALUE=DATE:20260426
DTSTAMP:20260424T140640
CREATED:20260330T162257Z
LAST-MODIFIED:20260423T160303Z
UID:10000218-1777075200-1777161599@offutt55fss.com
SUMMARY:Lucky Bucket Tour ***SOLD OUT***
DESCRIPTION:Update: This event is sold out. \n🍺 An unforgettable tasting experience! Register for the LUCKY BUCKET PRIVATE TOUR from Outdoor Rec. Saturday\, April 25 at 2:30pm. \nTaste the best of Lucky Bucket with a private\, behind-the-scenes tour! \nWhat’s Included: \n🍻 Pint of beer to enjoy during the tour\n🍺 Two 5-ounce sample beers\n🥃 Two 1.5-ounce whiskey samples\n🎁 Take-home 100mL whiskey\n🛍️ 20% off anything to-go \nONLY $30 per person. Open to all DoD IDs. \nAges 21+ | No Transportation Provided \n➡️Sign up at Outdoor Rec. Located in Bldg 362 with Auto Hobby. Open 9am – 5pm. Closed Wednesdays & weekends.
URL:https://offutt55fss.com/event/lucky-bucket-tour/
LOCATION:NE
CATEGORIES:Outdoor Recreation
ATTACH;FMTTYPE=image/jpeg:https://offutt55fss.com/wp-content/uploads/2026/03/Lucky-Bucket-Beer-Tour-April-2026_square.jpg
END:VEVENT
BEGIN:VEVENT
DTSTART;TZID=UTC:20260425T140000
DTEND;TZID=UTC:20260425T160000
DTSTAMP:20260424T140640
CREATED:20260327T160512Z
LAST-MODIFIED:20260422T133834Z
UID:10000215-1777125600-1777132800@offutt55fss.com
SUMMARY:Bingo for Kids **SOLD OUT**
DESCRIPTION:Update: This event is sold out. \n💜Win a big basket of FUN at BINGO FOR KIDS hosted by the Warhawk Community Center! \n🎉 Saturday\, April 25 \n🕕 2pm \n📍 Offutt Event Center \nKids will play 5 rounds of traditional bingo\, with each round giving players a chance to win gift baskets packed with toys\, games\, and snacks. Plus\, door prize drawings add even more chances to win. \n💜 Celebrate the Month of the Military Child:\nWear purple and receive an extra bingo card FREE! \nONLY $10 per player. \nClick here to register: https://www.eventbrite.com/e/offutt-bingo-for-kids-2026-tickets-1984920464542?aff=Event \nImportant Details: \n\nOpen to children ages 3–16\nEvery child playing must have a ticket\nAdults do not need tickets\nChildren must be accompanied by an adult with a DoD ID\nSnacks & drinks available for purchase (no outside food or beverages allowed)
URL:https://offutt55fss.com/event/23053/
LOCATION:Offutt Event Center\, 914 SAC Blvd\, Offutt AFB\, NE\, 68113\, United States
CATEGORIES:Offutt Event Center,Warhawk Community Center
ATTACH;FMTTYPE=image/jpeg:https://offutt55fss.com/wp-content/uploads/2026/03/Bingo-for-kids-2026_square.jpg
END:VEVENT
BEGIN:VEVENT
DTSTART;TZID=UTC:20260430T180000
DTEND;TZID=UTC:20260430T203000
DTSTAMP:20260424T140640
CREATED:20260327T194043Z
LAST-MODIFIED:20260327T194043Z
UID:10000217-1777572000-1777581000@offutt55fss.com
SUMMARY:Candle Workshop
DESCRIPTION:🕯️ Relax\, create\, and take home something special. Register for a CANDLE WORKSHOP hosted by the Warhawk Community Center & Offutt Arts & Crafts. \n📅 Thursday\, April 30\n⏰ 6–8:30pm \n📍 Offutt Event Center \nCreate two custom soy wax candles in glass jars\, choosing your own fragrance\, colors\, and style to design something uniquely yours. \nONLY $35 per person. Includes all materials and instruction. \nOpen to all DoD IDs. \n➡️Call the Warhawk Community Center at 402-294-9558 to sign up. Open 9am – 4pm on weekdays.
URL:https://offutt55fss.com/event/candle-workshop-2/
LOCATION:Offutt Event Center\, 914 SAC Blvd\, Offutt AFB\, NE\, 68113\, United States
CATEGORIES:Arts & Crafts,Warhawk Community Center
ATTACH;FMTTYPE=image/jpeg:https://offutt55fss.com/wp-content/uploads/2026/03/Relax-and-Create-Candle-Workshop_square-3.jpg
END:VEVENT
BEGIN:VEVENT
DTSTART;TZID=UTC:20260501T150000
DTEND;TZID=UTC:20260501T190000
DTSTAMP:20260424T140640
CREATED:20260407T143147Z
LAST-MODIFIED:20260407T143147Z
UID:10000220-1777647600-1777662000@offutt55fss.com
SUMMARY:May First Friday
DESCRIPTION:🌮 MAY FIRST FRIDAY: FESTIVE TACO NIGHT 🌮 \nKick off May with bold flavors and a festive vibe in the Raiders Lounge. \n🎉 Enjoy themed décor\, great music\, and a laid-back atmosphere to start your weekend right.\n🌮 Tacos available for $3.50 each\n🍹 Frozen margaritas available for purchase \n📅 Friday\, May 1\n🕞 Doors open at 3pm\n📍 Raiders Lounge (inside the Offutt Event Center)\n✔️ Open to all DoD IDs \nhttps://offutt55fss.com/raiders-lounge/
URL:https://offutt55fss.com/event/may-first-friday/
LOCATION:Raiders Lounge\, 914 SAC Blvd\, Offutt AFB\, NE\, 68113\, United States
CATEGORIES:Offutt Event Center
ATTACH;FMTTYPE=image/jpeg:https://offutt55fss.com/wp-content/uploads/2026/04/First-Friday_May-2026_square.jpg
END:VEVENT
BEGIN:VEVENT
DTSTART;TZID=UTC:20260501T160000
DTEND;TZID=UTC:20260501T173000
DTSTAMP:20260424T140640
CREATED:20260422T193356Z
LAST-MODIFIED:20260423T164821Z
UID:10000231-1777651200-1777656600@offutt55fss.com
SUMMARY:May Day Treats
DESCRIPTION:🌊 Kick off the season with a dose of LAKE LIFE ADVENTURES at the Offutt Base Lake. \n🍿 MAY DAY TREATS \nFriday\, May 1\nBuild your own sweet treat to keep or share. We provide the container\, popcorn\, and goodies. Bonus games and activities at the lake.\n$2 per person | All ages | 4–5:30pm \nPurchase at Eagles Landing ahead of time or day of the event. \n➡️The Offutt Base Lake & Eagles Landing offer year-round outdoor recreation\, featuring camping\, fishing\, boating\, event space\, and lakeside amenities. Access to the area is limited to those with a valid DoD ID. Eagles Landing is open daily from 9am–6pm during the season. \nhttps://offutt55fss.com/offutt-base-lake/
URL:https://offutt55fss.com/event/may-day-treats/
LOCATION:Base Lake\, 13201 Harlan Lewis Rd\, Offutt AFB\, NE\, 68113\, United States
CATEGORIES:Eagles Landing,Offutt Base Lake,Outdoor Recreation
ATTACH;FMTTYPE=image/png:https://offutt55fss.com/wp-content/uploads/2026/04/Lake-Life-Adventures_square-individuals-01.png
END:VEVENT
BEGIN:VEVENT
DTSTART;VALUE=DATE:20260504
DTEND;VALUE=DATE:20260505
DTSTAMP:20260424T140640
CREATED:20260415T170350Z
LAST-MODIFIED:20260415T170350Z
UID:10000229-1777852800-1777939199@offutt55fss.com
SUMMARY:May the Fourth Bowling Movie Marathon
DESCRIPTION:This is the Summer fun you’re looking for! \nCelebrate May the 4th at Peacekeeper Lanes. Come in for an all-day movie marathon playing your favorite Star Wars films. \nIt’s also a big day of change:\n• Summer operating hours officially begin\n• Lunchtime Lanes rolls into a new time (10am – noon)\n• Kids Bowl Free launches in the afternoon (noon – 6pm) \n📍Find us in the basement of Bldg D\, Entrance 7. \nhttps://offutt55fss.com/peacekeeper-lanes/
URL:https://offutt55fss.com/event/may-the-fourth-bowling-movie-marathon/
LOCATION:Peacekeeper Lanes\, 106 Peacekeeper Dr\, Offutt AFB\, NE\, 68113\, United States
CATEGORIES:Peacekeeper Lanes
ATTACH;FMTTYPE=image/jpeg:https://offutt55fss.com/wp-content/uploads/2026/04/May-the-4th-2026_square.jpg
END:VEVENT
BEGIN:VEVENT
DTSTART;TZID=UTC:20260504T170000
DTEND;TZID=UTC:20260504T190000
DTSTAMP:20260424T140640
CREATED:20260422T193527Z
LAST-MODIFIED:20260423T164857Z
UID:10000232-1777914000-1777921200@offutt55fss.com
SUMMARY:May the 4th be with You
DESCRIPTION:🌊 Kick off the season with a dose of LAKE LIFE ADVENTURES at the Offutt Base Lake. \n⭐ MAY THE 4TH BE WITH YOU \nMonday\, May 4\nLightsaber battles\, glowing sabers (while supplies last)\, snacks\, and drinks included. Costumes encouraged for extra fun.\n$10 per person | 5–7pm \nPurchase at Eagles Landing ahead of time or day of the event. \n➡️The Offutt Base Lake & Eagles Landing offer year-round outdoor recreation\, featuring camping\, fishing\, boating\, event space\, and lakeside amenities. Access to the area is limited to those with a valid DoD ID. Eagles Landing is open daily from 9am–6pm during the season. \nhttps://offutt55fss.com/offutt-base-lake/
URL:https://offutt55fss.com/event/may-the-4th-be-with-you/
LOCATION:Base Lake\, 13201 Harlan Lewis Rd\, Offutt AFB\, NE\, 68113\, United States
CATEGORIES:Eagles Landing,Offutt Base Lake,Outdoor Recreation
ATTACH;FMTTYPE=image/png:https://offutt55fss.com/wp-content/uploads/2026/04/Lake-Life-Adventures_square-individuals-02.png
END:VEVENT
BEGIN:VEVENT
DTSTART;VALUE=DATE:20260508
DTEND;VALUE=DATE:20260511
DTSTAMP:20260424T140640
CREATED:20260408T131705Z
LAST-MODIFIED:20260408T131705Z
UID:10000222-1778198400-1778457599@offutt55fss.com
SUMMARY:Thermal West Texas Hog Hunt
DESCRIPTION:🌙🐗 When the sun goes down\, the hunt begins. 🐗🌙 \nTake adventure to the next level with a THERMAL WEST TEXAS HOG HUNT hosted by Offutt Outdoor Rec. A high-action\, all-inclusive thermal hunting experience across 450\,000 acres of prime land. \n📅 May 8–10\n🕖 Depart Friday morning • Return Sunday night\n💲 $1\,300 per person\n📍 West Texas \nWhat’s Included\n✔️ 2 nights of guided thermal hog hunts\n✔️ Opportunity to shoot numerous hogs\n✔️ Suppressed 6.8 SPC rifles with thermal scopes & ammo\n✔️ Lodging\, food\, and transportation\n✔️ Experienced\, highly successful outfitter \nThis is a full-scale outdoor adventure designed for thrill seekers who want nonstop action under the Texas night sky. \n➡️Sign up at Outdoor Rec. Located in Bldg 362 with Auto Hobby. Open 9am – 5pm. Closed Wednesdays & weekends.
URL:https://offutt55fss.com/event/thermal-west-texas-hog-hunt/
LOCATION:NE
CATEGORIES:Outdoor Recreation
ATTACH;FMTTYPE=image/jpeg:https://offutt55fss.com/wp-content/uploads/2026/04/Hog-Hunt-trip2026_square.jpg
END:VEVENT
BEGIN:VEVENT
DTSTART;VALUE=DATE:20260509
DTEND;VALUE=DATE:20260510
DTSTAMP:20260424T140640
CREATED:20260413T155301Z
LAST-MODIFIED:20260413T155301Z
UID:10000224-1778284800-1778371199@offutt55fss.com
SUMMARY:Mother's Day Craft & Bowl
DESCRIPTION:💐 Make fun memories with Mom! Register for the MOTHER’S DAY CRAFT & BOWL event hosted by Peacekeeper Lanes and Offutt Arts & Crafts. \n📅 Saturday\, May 9\n🕐 Time slots: 1pm or 3pm\n📍 Peacekeeper Lanes \n🎨🎳 Start with a fun\, easy 30-minute craft\, then hit the lanes for 90 minutes of bowling. A perfect mix of creativity and family fun\, all in one afternoon. \nONLY $25 per person. Includes craft & supplies\, bowling\, shoe rental\, and a regular drink. \nOpen to all DoD IDs. All ages welcome. \n⚠️ Pre-registration is required. Sign up at Peacekeeper Lanes or call 402-294-2514. \nhttps://offutt55fss.com/peacekeeper-lanes/
URL:https://offutt55fss.com/event/mothers-day-craft-bowl/
LOCATION:Peacekeeper Lanes\, 106 Peacekeeper Dr\, Offutt AFB\, NE\, 68113\, United States
CATEGORIES:Arts & Crafts,Peacekeeper Lanes
ATTACH;FMTTYPE=image/jpeg:https://offutt55fss.com/wp-content/uploads/2026/04/Mothers-Day-_Craft-and-Bowl_square.jpg
END:VEVENT
BEGIN:VEVENT
DTSTART;TZID=UTC:20260509T090000
DTEND;TZID=UTC:20260509T110000
DTSTAMP:20260424T140640
CREATED:20260413T184421Z
LAST-MODIFIED:20260413T184534Z
UID:10000225-1778317200-1778324400@offutt55fss.com
SUMMARY:Mimosas for Miles: Mother's Day Fun Run
DESCRIPTION:🥂👟Celebrate MOM in a fun and refreshing way! Regsiter for MIMOSAS FOR MILES: MOTHER’S DAY FUN RUN hosted by the Offutt Field House and the Warhawk Community Center. \n📅Saturday\, May 9 \n⏰9am \n📍Offutt Event Center \nExperience a 4-mile outdoor fun run/walk across base designed to honor moms and bring families together for a memorable Mother’s Day weekend. \nPark at the Offutt Event Center (walk across the street to the starting line in the 55th Wing HQ parking lot). Enjoy a finish line celebration at the Offutt Event Center with a mimosa or mock-mosa! Additional beverages will be available to purchase. \nONLY $20 for adults. Kids 12 & under are free. \nPaid registrations received by MAY 1 will receive a t-shirt! \nClick here to register: https://www.eventbrite.com/e/offutt-mimosas-for-miles-mothers-day-fun-run-2026-tickets-1986222535070?aff=WEB \n👪Open to all DoD IDs. Guests are welcome & must be accompanied on base by someone with a valid ID. \nThanks to our sponsors: Morrie’s\, Oriental Trading Company\, and the Offutt Advisory Council. No federal endorsement intended.
URL:https://offutt55fss.com/event/mimosas-for-miles-mothers-day-fun-run/
LOCATION:Offutt Event Center\, 914 SAC Blvd\, Offutt AFB\, NE\, 68113\, United States
CATEGORIES:Offutt Event Center,Offutt Field House
ATTACH;FMTTYPE=image/jpeg:https://offutt55fss.com/wp-content/uploads/2026/04/Mimosas-for-Miles_square.jpg
END:VEVENT
BEGIN:VEVENT
DTSTART;TZID=UTC:20260515T140000
DTEND;TZID=UTC:20260515T180000
DTSTAMP:20260424T140640
CREATED:20260414T194628Z
LAST-MODIFIED:20260414T194628Z
UID:10000228-1778853600-1778868000@offutt55fss.com
SUMMARY:Golf Fitting Day
DESCRIPTION:⛳Sample the latest technology in golf equipment! Register for GOLF FITTING DAY at Willow Lakes Golf Course. Friday\, May 15 from 2-6pm. \nImprove your game & try out the newest gear from Callaway. Get complementary range balls while testing out equipment\, plus FREE shipping on all purchases made during the event. \nClick here to book a fitting appointment: https://process.callawaygolf.com/CgiServices/Fitting?id=ea9eb7db-45d7-478b-8fdb-b96962e9487b \n➡️Willow Lakes Golf Course is open to the general public & military community.
URL:https://offutt55fss.com/event/golf-fitting-day/
LOCATION:Willow Lakes Golf Course\, 12301 S. 25th St\, Bellevue\, NE\, 68123\, United States
CATEGORIES:Willow Lakes Golf Course
ATTACH;FMTTYPE=image/jpeg:https://offutt55fss.com/wp-content/uploads/2026/04/Golf-Fitting-Day_2026_-square.jpg
END:VEVENT
BEGIN:VEVENT
DTSTART;VALUE=DATE:20260516
DTEND;VALUE=DATE:20260517
DTSTAMP:20260424T140640
CREATED:20260413T200311Z
LAST-MODIFIED:20260413T200311Z
UID:10000226-1778889600-1778975999@offutt55fss.com
SUMMARY:2-Person Team Championship Golf Tournament
DESCRIPTION:⛳A best ball\, scramble\, & alternate shot tournament rolled into one! Register for the 2-PERSON TEAM CHAMPIONSHIP at Willow Lakes Golf Course. Saturday\, May 16 with a 9am shotgun start. \nPlayers compete in 2 person teams: 6 holes of best ball\, 6 holes scramble\, and 6 holes modified alternate shot. \nEntry fee is ONLY $45 for Annual Green Fee golfers\, and $65 for all other categories. Includes green fee\, cart fee\, lunch\, & prizes. \nSign up at the Golf Shop or call 402-294-1680. Entry deadline is May 13. \nThanks to our sponsor Morries\, and Lockheed Martin. No federal endorsement of sponsors intended. \nhttps://offutt55fss.com/willow-lakes-golf-course/
URL:https://offutt55fss.com/event/2-person-team-championship-golf-tournament/
LOCATION:Willow Lakes Golf Course\, 12301 S. 25th St\, Bellevue\, NE\, 68123\, United States
CATEGORIES:Willow Lakes Golf Course
ATTACH;FMTTYPE=image/jpeg:https://offutt55fss.com/wp-content/uploads/2026/04/2person-Championship_May-2026_square.jpg
END:VEVENT
BEGIN:VEVENT
DTSTART;VALUE=DATE:20260530
DTEND;VALUE=DATE:20260531
DTSTAMP:20260424T140640
CREATED:20260330T192948Z
LAST-MODIFIED:20260423T160346Z
UID:10000219-1780099200-1780185599@offutt55fss.com
SUMMARY:Horseback Riding ***SOLD OUT***
DESCRIPTION:Update: This event is sold out.\n🐎🌲 Saddle up for adventure! Register for HORSEBACK RIDING hosted by Offutt Outdoor Rec.\nWe’re taking you to Platte River State Park for a guided horseback riding trip through scenic Nebraska trails. \n📅 Saturday\, May 30\n🕘 9am\n💲 $45 per person \nIncludes:\n✔️ Transportation\n✔️ Guided horseback ride\n✔️ Park entrance \n🥪 Bring a sack lunch. \nOpen to all DoD IDs. \n➡️Sign up at Outdoor Rec. Located in Bldg 362 with Auto Hobby. Open 9am – 5pm. Closed Wednesdays & weekends. \nhttps://www.offutt55fss.com/outdoor-recreation/
URL:https://offutt55fss.com/event/23084/
LOCATION:NE
CATEGORIES:Outdoor Recreation
ATTACH;FMTTYPE=image/jpeg:https://offutt55fss.com/wp-content/uploads/2026/03/Horseback-Riding-Platte-River_square.jpg
END:VEVENT
BEGIN:VEVENT
DTSTART;VALUE=DATE:20260703
DTEND;VALUE=DATE:20260704
DTSTAMP:20260424T140640
CREATED:20260422T144946Z
LAST-MODIFIED:20260422T145004Z
UID:10000230-1783036800-1783123199@offutt55fss.com
SUMMARY:Battle of the Branches Bowling Tournament
DESCRIPTION:🇺🇸🎳 Serve your branch. Strike for victory. Sign up for the BATTLE OF THE BRANCHES BOWLING TOURNAMENT at Peacekeeper Lanes. \nIn honor of our nation’s 250th Birthday\, it’s time to settle it on the lanes. Which branch comes out on top? \n📅 Friday\, July 3\n📍Peacekeeper Lanes \n🎯 Format: Individual qualifying\, bracket match play\, and a final team showdown to crown the champion. Four games guaranteed to each bowler. \n👥 Who Can Compete:\nMilitary only\nPriority: Active Duty | Guard/Reserve | Retired | Veterans\nLimited to 16 bowlers per branch \n💲$25 per person \n🏆 The winning team takes home trophies to honor their victory. \n➡️Register at Peacekeeper Lanes\, or call 402-294-2514. Deadline to sign up is June 19. \nhttps://offutt55fss.com/peacekeeper-lanes/
URL:https://offutt55fss.com/event/23340/
LOCATION:Peacekeeper Lanes\, 106 Peacekeeper Dr\, Offutt AFB\, NE\, 68113\, United States
CATEGORIES:Peacekeeper Lanes
ATTACH;FMTTYPE=image/jpeg:https://offutt55fss.com/wp-content/uploads/2026/04/Battle-of-the-Branches_Bowling-Tournament_square.jpg
END:VEVENT
END:VCALENDAR